BEGIN:VCALENDAR
VERSION:2.0
PRODID:Events Booking
BEGIN:VEVENT
UID:69e8ab1b096c4
SUMMARY:XXV. Sněm lesníků: Výchova mladých lesních porostů po kalami
 tách
DESCRIPTION:Po rozsáhlé obnově lesních porostů vyvolané klimatickou z
 měnou a následnou kůrovcovou kalamitou\, čeká lesníky další zásad
 ní úkol – výchova mladých lesních porostů. Do výchovy porostů se
  zahrnují veškerá opatření\, kterými se systematicky\, opakovaně a
  záměrně ovlivňují růstové a vývojové procesy porostů tak\, aby 
 byla hospodárně dosažena kvalita a bezpečnost produkce. Základní po
 žadavky výchovy porostů vycházejí z porostní hustoty\, rozmístění
  jedinců\, kvality jedinců\, druhové skladby\, zdravotního stavu poros
 tu a optimálního stavu porostního prostředí. Proto je při porostní 
 výchově nezbytná optimalizace druhové skladby\, formy a intenzity výb
 ěru s přihlédnutím ke stanoveným provozním cílům. Jelikož s rosto
 ucím věkem se naopak snižuje schopnost lesních porostů reagovat na je
 dnotlivá pěstební opatření\, je nezbytné s výchovou začít včas. 
 S výchovou lesních porostů se tak doporučuje začít nejpozději v rů
 stové fázi mlazin\, a to dle konkrétních stanovištních a porostníc
 h poměrů\, nevyjímaje provozní cíle. Jednotlivé příspěvky se zam
 ěří na výchovu cílových dřevin\, porostních směsí\, porostů př
 i dvoufázové obnově lesa\, porostů poškozených zvěří nebo s opož
 děnou výchovou. Nebude chybět ani pohled a zkušenosti z praxe. Jubilej
 ní XXV. Sněm lesníků přinese jasně daná doporučení a postupy výc
 hovy lesních porostů po kalamitách\, vedoucí k lepší stabilitě a ad
 aptabilitě lesních porostů zejména vůči klimatickým změnám.
LOCATION:Lesní\, Hradec Králové\, Česká republika
DTSTART:20231107T080000Z
DTEND:20231107T130000Z
DTSTAMP:20260422T130355Z
ORGANIZER;CN=ČESLES:MAILTO:tajemnik@cesles.cz
GEO:50.18066;15.858506
X-APPLE-STRUCTURED-LOCATION;VALUE=URI;X-ADDRESS=Lesní\, Hradec Králové\,
  Česká republika;X-APPLE-RADIUS=72;X-TITLE=LČR Hradec Králové:50.1806
 6;15.858506
END:VEVENT
END:VCALENDAR