BEGIN:VCALENDAR
VERSION:2.0
PRODID:Events Booking
BEGIN:VEVENT
UID:69ed2c87e65f6
SUMMARY:XXI. Sněm lesníků - Zlomové okamžiky v lesnictví za uplynulý
 ch 100 let od vzniku ČSR
DESCRIPTION:U příležitosti stoletého výročí vzniku Československé 
 republiky uspořádá dne 7. 11. 2018 Česká lesnická společnost XXI. S
 něm lesníků\, jehož cílem je připomenutí nejdůležitějších miln
 íků ve vývoji lesnictví od roku 1918 do roku 2018. Stoletý společens
 ko-politický vývoj Československé a později České republiky prošel
  mnoha změnami\, které měly zásadní dopad do obhospodařování lesů
  na našem území. Namátkou lze jmenovat například pozemkové reformy\
 , změny ve vlastnictví lesů\, vznik a vývoj státních lesů\, kalamit
 y a jejich řešení\, vliv lesnických stavovských organizací\, transfo
 rmace společnosti po roce 1989\, lesnická legislativa\, vývoj v hospod
 ářské úpravě lesů\, současný stav v lesnictví apod. Vystupující
  řečníci by měli nejen popsat příslušné téma\, ale rovněž se za
 myslet na tím jaké poučení nám současným lesníkům historická zku
 šenost přinesla. 
LOCATION:Lesní\, Hradec Králové\, Česká republika
DTSTART:20181107T080000Z
DTEND:20181107T133500Z
DTSTAMP:20260425T230511Z
ORGANIZER;CN=ČESLES:MAILTO:tajemnik@cesles.cz
GEO:50.18066;15.858506
X-APPLE-STRUCTURED-LOCATION;VALUE=URI;X-ADDRESS=Lesní\, Hradec Králové\,
  Česká republika;X-APPLE-RADIUS=72;X-TITLE=LČR Hradec Králové:50.1806
 6;15.858506
END:VEVENT
END:VCALENDAR