BEGIN:VCALENDAR
VERSION:2.0
PRODID:Events Booking
BEGIN:VEVENT
UID:69ed6ea065189
SUMMARY:Vrba – dřevina roku 2018
DESCRIPTION:V rámci vzdělávacích aktivit vyhlašují Lesy ČR\, s. p. j
 iž řadu let jednu z lesních dřevin jako dřevinu roku\, kterou v dané
 m roce přibližují široké veřejnosti. Pro rok 2018 byla v pořadí ji
 ž dvacátou dřevinou roku vybrána vrba (Salix). Vrby patří k determin
 ačně nejnáročnějším dřevinám\, avšak zároveň jsou z vědeckéh
 o hlediska jedny z nejzajímavějších dřevin České republiky zahrnuj
 ící 21 původních domácích druhů. Vrba je také důležitým hospod
 ářským činitelem pro své mnohostranné využití v košíkářském p
 růmyslu\, pro energetické využití\, ale má i důležitý význam z hl
 ediska mimoprodukčních funkcí (ochrana břehových svahů\, rekultivace
  lomů a výsypek atd.). Na semináři budou představeny aktuální probl
 émy a možnosti využití této dřeviny na základě výsledků šetřen
 í na výzkumných plochách (VÚLHM v.v.i.\, stanice Kunovice)\, zkušeno
 stí s pěstováním vrby jako zemědělské plodiny pro produkci biomasy 
 a výsledků testování domácích vrb na značně odlišných stanovišt
 ních (Průhonice\, Šumava\, orná půda a TTP). Po dopoledním předná
 škovém bloku bude v odpolední části pokračovat terénní exkurze.
LOCATION:Panská 25\, 686 04 Kunovice\, Česko
DTSTART:20180830T073000Z
DTEND:20180830T133000Z
DTSTAMP:20260426T034712Z
ORGANIZER;CN=ČESLES:MAILTO:tajemnik@cesles.cz
GEO:49.042707;17.465633
X-APPLE-STRUCTURED-LOCATION;VALUE=URI;X-ADDRESS=Panská 25\, 686 04 Kunovic
 e\, Česko;X-APPLE-RADIUS=72;X-TITLE=Kunovice:49.042707;17.465633
END:VEVENT
END:VCALENDAR