BEGIN:VCALENDAR
VERSION:2.0
PRODID:Events Booking
BEGIN:VEVENT
UID:69ec3b4be706e
SUMMARY:Vliv lesa a jeho struktury na hydrické funkce krajiny
DESCRIPTION:Seminář je zaměřen na význam hydrické a vodohospodářsk
 é funkce lesů v kontextu probíhající klimatické změny.  S ohledem 
 na význam lesů pro retenci vody v krajině bude diskutována role druhov
 é skladby a způsobu hospodaření v lesích. Pozornost bude věnována o
 patřením posilujícím vodohospodářskou funkci lesů a celé krajiny. 
 Pozornost bude také zaměřena na vyhodnocení současné periody sucha s
  ohledem na dlouhodobý trend a také na to\, jak současné sucho ovlivň
 uje lesní porosty i vitalitu jednotlivých dřevin.  Představena bude i
  metodika ekonomického hodnocení hydrické funkce lesa. Součástí semi
 náře bude i exkurze na objekty\, kde se dlouhodobě sleduje hydrická fu
 nkce lesních porostů. 
DTSTART:20190919T070000Z
DTEND:20190919T140000Z
DTSTAMP:20260425T055555Z
ORGANIZER;CN=ČESLES:MAILTO:tajemnik@cesles.cz
END:VEVENT
END:VCALENDAR