BEGIN:VCALENDAR
VERSION:2.0
PRODID:Events Booking
BEGIN:VEVENT
UID:69ed442064ad8
SUMMARY:Užití krytokořenného sadebního materiálu při obnovách lesa\
 , zalesňování a výsadbách v krajině
DESCRIPTION:Podíl krytokořenného sadebního materiálu při obnovách le
 sů\, zalesňování a výsadbách v krajině neustále vzrůstá. Přesto
  je řada důležitých otázek\, na které má odpovědět tato mezináro
 dní konference. Jde zejména o to\, zda je vždy výhodnější sadební 
 materiál krytokořenný než sadební materiál prostokořenný\, jak s k
 rytokořenným sadebním materiálem manipulovat\, jaké způsoby jeho vý
 sadby jsou nejvhodnější a jaké jsou limity jeho užití. Přednášej
 ící jsou vybráni z erudovaných a zkušených odborníků výzkumu i p
 raxe z České republiky\, Slovenské republiky\, Polska\, Rakouska a Š
 védska\, čímž budou konfrontovány i zahraniční zkušenosti. Semin
 ář je určen vlastníkům\, správcům a pracovníkům obecních\, soukr
 omých\, církevních a státních lesů\, pracovníkům státní správy\
 , lesních družstev\, zájmových skupin a podnikatelských subjektů v l
 esním hospodářství (zejména dodavatelům zalesňovacích prací a šk
 olkařům)\, ale i dalším\, které tato problematika zajímá.
LOCATION:Nad Pisárkami 276/1\, Pisárky\, 623 00 Brno\, Česko
DTSTART:20181004T070000Z
DTEND:20181004T142000Z
DTSTAMP:20260426T004552Z
ORGANIZER;CN=ČESLES:MAILTO:tajemnik@cesles.cz
GEO:49.188643;16.553507
X-APPLE-STRUCTURED-LOCATION;VALUE=URI;X-ADDRESS=Nad Pisárkami 276/1\, Pis
 árky\, 623 00 Brno\, Česko;X-APPLE-RADIUS=72;X-TITLE=Hotel Myslivna Brno
 :49.188643;16.553507
END:VEVENT
END:VCALENDAR