BEGIN:VCALENDAR
VERSION:2.0
PRODID:Events Booking
BEGIN:VEVENT
UID:69eb2446a9923
SUMMARY:Svět legální a ilegální těžby dřeva - Odkud putuješ\, dře
 vo? Trnitá cesta dřeva z pralesa\,  přes řeky a oceány
DESCRIPTION:Nelegální těžba dřeva v tropických oblastech se pouze zd
 ánlivě nedotýká nás v České republice. Každý rok prostřednictví
 m i takových surovin jako je papír a buničina je importováno obrovské
  množství tropického dříví do ČR\, potažmo do EU. Zcela jistě by 
 nás mělo zajímat proč dochází k těžbě v tropických oblastech\, z
 a jakých podmínek a zda můžeme zabránit těžbám\, které mají deva
 stační účinky nejen na životní prostředí\, ale také na sociální
  vztahy. Seminář si klade za cíl s odborníky\, kteří tropické oblas
 ti osobně navštívili\, hledat cestu\, jak nevyužívat přírodní zdro
 je tropických oblastí nad přijatelnou mez. Odborný seminář je zamě
 řený na těžbu dřeva v tropických oblastech světa\, na dovoz tohoto 
 dříví\, nejen do ČR\, na jeho zpracování a naplnění legislativníc
 h podmínek\, například Nařízení o dřevu. Programem Vás provedou sp
 ecialisté v oboru\, působící i v tropických oblastech na územích Et
 iopie\, Kamerunu a Peru. Na dopolední blok přednášek naváže venkovn
 í exkurze s dendrologickým výkladem v slatiňanském zámeckém parku. 
 Seminář je zaměřený na dovozce a zpracovatele dřeva\, na kompetentn
 í osoby zabývající se Nařízením Evropského parlamentu a Rady (EU) 
 č. 995/2010 a na všechny\, které problematika tropického dřeva zajím
 á.
LOCATION:T. G. Masaryka 26
DTSTART:20200903T070000Z
DTEND:20200903T133000Z
DTSTAMP:20260424T100526Z
ORGANIZER;CN=ČESLES:MAILTO:tajemnik@cesles.cz
GEO:49.921278;15.810841
X-APPLE-STRUCTURED-LOCATION;VALUE=URI;X-ADDRESS=T. G. Masaryka 26;X-APPLE-R
 ADIUS=72;X-TITLE=Penzion a Restaurace U Zámku\, Slatiňany:49.921278;15.8
 10841
END:VEVENT
END:VCALENDAR