BEGIN:VCALENDAR
VERSION:2.0
PRODID:Events Booking
BEGIN:VEVENT
UID:69e9afa48c57a
SUMMARY:QUO VADIS LESNICTVÍ? – VI. Kam kráčí lesnická ekonomika  a p
 olitika?
DESCRIPTION:Cílem semináře je seznámení účastníků s aktuální pro
 blematikou lesnické ekonomiky a politiky v České republice. První dopo
 lední blok se zabývá vývojem lesnické ekonomiky\, a to od jejich hist
 orických kořenů\, přes současný stav\, až po možnosti jejího budo
 ucího vývoje a prognóz\, a to jak z pohledu ekonomiky coby teoretické 
 disciplíny i každodenní praxe lesnického provozu. Druhý blok se věnu
 je historii\, současnému stavu i možné budoucí podobě lesnické poli
 tiky. 
 Seminář je určen vlastníkům (či jejich zástupcům) a spr
 ávcům všech typů lesních majetků: obecních\, soukromých\, církevn
 ích i státních. Také osobám ze státní správy\, z lesních družste
 v\, zájmových skupin a podnikatelských subjektů v lesním hospodářst
 ví apod.
 Jednotliví přednášející jsou vybráni z okruhu nejerudov
 anějších odborníků\, a to jak po stránce teorie\, tak i praxe lesnic
 ké ekonomiky a politiky. Témata jejich příspěvků jsou zvolena tak\, 
 aby seminář přinesl účastníkům co největší informační hodnotu 
 v dané problematice. 
 Quo vadis lesnictví? - je Českou lesnickou spo
 lečností dlouhodobě připravovaný a realizovaný cyklus šesti tematic
 ky na sebe navazujících odborných seminářů z jednotlivých oblastí 
 lesnictví a lesního hospodářství\, které obsahově kopírují časov
 ý vývoj lesa od semenářství až po těžbu dřeva a jeho zpeněžení
 . Nosnou a sjednocující myšlenkou celého cyklu seminářů je předsta
 vení základních oblastí lesního hospodářství v kontextu jejich ča
 sového vývoje: minulost – současnost – budoucnost.
DTSTART:20211209T080000Z
DTEND:20211209T133000Z
DTSTAMP:20260423T073532Z
ORGANIZER;CN=ČESLES:MAILTO:tajemnik@cesles.cz
END:VEVENT
END:VCALENDAR