BEGIN:VCALENDAR
VERSION:2.0
PRODID:Events Booking
BEGIN:VEVENT
UID:69ec258ce68df
SUMMARY:QUO VADIS LESNICTVÍ? – V.  Kam kráčí lesnická legislativa a 
 hospodářské úpravnictví?
DESCRIPTION:Cílem semináře je seznámení účastníků s aktuální pr
 oblematikou lesnické legislativy a hospodářského úpravnictví v Čes
 ké republice. První dopolední blok se zabývá vývojem lesnické legis
 lativy\, a to od jejich historických kořenů\, přes současný stav\, a
 ž po možnosti jejího budoucího vývoje a inovací. Druhý blok se věn
 uje historii\, současnému stavu i možné budoucí podobě hospodářsk
 ého úpravnictví.  
 Quo vadis lesnictví? - je Českou lesnickou spol
 ečností dlouhodobě připravovaný a realizovaný cyklus šesti tematick
 y na sebe navazujících odborných seminářů z jednotlivých oblastí 
 lesnictví a lesního hospodářství\, které obsahově kopírují časov
 ý vývoj lesa od semenářství až po těžbu dřeva a jeho zpeněžení
 . Nosnou a sjednocující myšlenkou celého cyklu seminářů je předsta
 vení základních oblastí lesního hospodářství v kontextu jejich č
 asového vývoje: minulost – současnost – budoucnost.
LOCATION:Zemědělská 1665/1\, 613 00 Brno-Brno-sever\, Česká republika
DTSTART:20191031T080000Z
DTEND:20191031T140000Z
DTSTAMP:20260425T042308Z
ORGANIZER;CN=ČESLES:MAILTO:tajemnik@cesles.cz
GEO:49.210209;16.615882
X-APPLE-STRUCTURED-LOCATION;VALUE=URI;X-ADDRESS=Zemědělská 1665/1\, 613 
 00 Brno-Brno-sever\, Česká republika;X-APPLE-RADIUS=72;X-TITLE=Mendelu B
 rno:49.210209;16.615882
END:VEVENT
END:VCALENDAR