BEGIN:VCALENDAR
VERSION:2.0
PRODID:Events Booking
BEGIN:VEVENT
UID:69ed4242a182f
SUMMARY:QUO VADIS LESNICTVÍ? – IV. Kam kráčí těžba a doprava dřív
 í?
DESCRIPTION:Cílem semináře je seznámení účastníků s aktuální pr
 oblematikou lesní těžby a dopravnictví v České republice. První\, 
 dopolední blok se zabývá těžbou a dopravou dříví\, a to od jejich 
 historických kořenů\, přes současný stav\, až po možnosti jejich b
 udoucího vývoje a inovací. Druhý blok se věnuje historii\, současné
 mu stavu i možné budoucí podobě lesní dopravní sítě. 
 Seminář
  je určen vlastníkům (či jejich zástupcům) a správcům všech typů
  lesních majetků: obecních\, soukromých\, církevních i státních. T
 aké osobám ze státní správy\, z lesních družstev\, zájmových sku
 pin a podnikatelských subjektů v lesním hospodářství\, apod. Jedno
 tliví přednášející jsou vybráni z okruhu nejerudovanějších odbo
 rníků a to jak po stránce teorie tak i praxe lesní těžby a dopravy d
 říví. Témata jejich příspěvků jsou zvolena tak\, aby seminář př
 inesl účastníkům co největší informační hodnotu v dané problema
 tice. 
LOCATION:Zemědělská 1665/1\, 613 00 Brno-Brno-sever\, Česká republika
DTSTART:20181025T070000Z
DTEND:20181025T130000Z
DTSTAMP:20260426T003754Z
ORGANIZER;CN=ČESLES:MAILTO:tajemnik@cesles.cz
GEO:49.210209;16.615882
X-APPLE-STRUCTURED-LOCATION;VALUE=URI;X-ADDRESS=Zemědělská 1665/1\, 613 
 00 Brno-Brno-sever\, Česká republika;X-APPLE-RADIUS=72;X-TITLE=Mendelu B
 rno:49.210209;16.615882
END:VEVENT
END:VCALENDAR