BEGIN:VCALENDAR
VERSION:2.0
PRODID:Events Booking
BEGIN:VEVENT
UID:69ed625c93409
SUMMARY:Krušné hory - jedno pohoří\, dva přístupy k lesu i zvěři
DESCRIPTION:            Tento rok se může stát významným mezní
 kem v české myslivosti a tím i v českém lesním hospodářství. Od
  přijetí nové zákonné úpravy si každá zájmová skupina slibuje zl
 epšení podmínek pro svoji činnost. Dosud se tyto představy značně l
 išily\, úhelným kamenem jsou stavy zvěře. Jejich razantní snížení
  vyžadované nejvíce vlastníky lesů a zemědělské půdy se nepotkáv
 á s představou myslivců\, že zvěř jako hlavní předmět jejich zá
 jmu z krajiny prakticky zmizí a nebude co lovit.
 Dlouhotrvající prob
 lém lze řešit „českou cestou“ pomocí stanovených omezení\, zák
 azů\, příkazů\, čísel\, nebo vzájemnou větší tolerancí a shodou
  nad základními principy požadovaného stavu prostředí\, vytváření
 m podmínek pro chov zvěře a cílovým stavem\, ke kterému by nová mys
 livecká norma měla vést – alespoň po několik (více) let\, během k
 terých lze ověřit\, zda tam opravdu vede.
 Místo tápání a dohadů 
 se můžeme inspirovat tam\, kde je problém již poměrně uspokojivě vy
 řešen – hned na druhé straně stejných hor. Prostředí i zvěř jso
 u zde obdobné\, jejich rovnováhu udržuje renomovaný státní podnik\, 
 les je intenzivně obnovován listnatými dřevinami i jedlí a přitom je
  myslivost zpřístupněna mnohem širšímu okruhu osob než v Čechách
 .
  
 Přijměte proto opakované pozvání do horských lesů\, kde dv
 ojí přístup k lesu i zvěři prokazatelně přináší dvojí výsledk
 y. Pojďme se seznámit s možnostmi\, jak lze pomoci lesu i české mysl
 ivosti.
DTSTART:20161006T073000Z
DTEND:20161007T120000Z
DTSTAMP:20260426T025452Z
ORGANIZER;CN=ČESLES:MAILTO:tajemnik@cesles.cz
END:VEVENT
END:VCALENDAR