BEGIN:VCALENDAR
VERSION:2.0
PRODID:Events Booking
BEGIN:VEVENT
UID:69e980df1b880
SUMMARY:Sustainable Forest Management
DESCRIPTION:Minister of Agriculture of the Czech Republic Mr Marian Jurečk
 a
 and the
 Federal Minister of Food and Agriculture of Germany Mr Chris
 tian Schmidt
 have the honour to invite you to the
 International Confer
 ence on
 “Integration of Biodiversity Enhancement in Sustainable Forest
  Management in the framework of the EU Forestry Strategy”
 within the f
 ramework of the Strategic dialogue between the Federal Republic of Germany
  and the Czech Republic.
 The project Integrate+ of the European Forest I
 nstitute provides the scientific basis for this conference (for more detai
 ls please visit: www.integrateplus.org). The conference will present ongoi
 ng cross-boundary work in the important field of integrating nature conser
 vation in forest management and provide the opportunity to discuss further
  steps at all levels.
 The State Enterprise - Forests of the Czech Republ
 ic (Lesy České republiky\, s.p.) co-organizes the event.
 Venue: Prague
 \, Czech Republic\, 6th October 2016 (start at 8 a.m.) till 7th October 20
 16 (end at 3:30 p.m.)
 Participants are kindly requested to register unt
 il 12th September 2016. Practical information is annexed to the invitation
 .
 Click here for more information.
LOCATION:Veletržní 1502/20\, Holešovice\, 170 00 Praha-Praha 7\, Česká
  republika
DTSTART:20161006T060000Z
DTEND:20161007T140000Z
DTSTAMP:20260423T041559Z
ORGANIZER;CN=ČESLES:MAILTO:tajemnik@cesles.cz
GEO:50.102509;14.431691
X-APPLE-STRUCTURED-LOCATION;VALUE=URI;X-ADDRESS=Veletržní 1502/20\, Hole
 šovice\, 170 00 Praha-Praha 7\, Česká republika;X-APPLE-RADIUS=72;X-TIT
 LE=PARKHOTEL Praha:50.102509;14.431691
END:VEVENT
END:VCALENDAR