BEGIN:VCALENDAR
VERSION:2.0
PRODID:Events Booking
BEGIN:VEVENT
UID:69e75cc02c4ca
SUMMARY:100 let velkých lesních kalamit ve střední Evropě 
DESCRIPTION:Klimatické extrémní jevy\, přemnožení biotických škůdc
 ů či imise nebo všechny tyto faktory dohromady jsou také součástí h
 istorie lesního hospodářství v ČR. Mnohokrát byli lesníci předchoz
 ích generací konfrontováni s kalamitami poškozujícími rozsáhlé les
 ní plochy. Pokaždé se dokázali s touto skutečností úspěšně vyrov
 nat a s různou úrovní techniky a technologií dostupných v dané době
  lesy vrátit tam\, odkud zmizely\, udržet je nebo dokonce rozšířit. J
 aká byla východiska? Jaká byla použita řešení? Jaká poučení si l
 ze vzít z kalamit minulých pro ty současné a následující? Snahu o z
 odpovězení těchto otázek si klade za cíl pořádaný dvoudenní semin
 ář. Po prvním přednáškovém dni bude následovat venkovní exkurze.
LOCATION:Harrachov 520\, 512 46 Harrachov
DTSTART:20181017T070000Z
DTEND:20181018T140000Z
DTSTAMP:20260421T131720Z
ORGANIZER;CN=ČESLES:MAILTO:tajemnik@cesles.cz
GEO:50.776019;15.43079
X-APPLE-STRUCTURED-LOCATION;VALUE=URI;X-ADDRESS=Harrachov 520\, 512 46 Harr
 achov;X-APPLE-RADIUS=72;X-TITLE=OREA Vital Hotel Sklář:50.776019;15.4307
 9
END:VEVENT
END:VCALENDAR