BEGIN:VCALENDAR
VERSION:2.0
PRODID:Events Booking
BEGIN:VEVENT
UID:69ea4efd82a46
SUMMARY:Obnova lesů po kalamitách  v právních souvislostech
DESCRIPTION:K zvládnutí kalamitní situace a obnově lesů po kalamitě m
 usí přispět všichni klíčový hráči. V případě státu se jedná 
 především o kompetentní ministerstva a jejich podřízené složky. Mi
 nisterstvo zemědělství na kalamitní situaci v lesích reagovalo zejmé
 na vydáváním Opatření obecné povahy\, změnou některých právních
  předpisů ke klíčovým zákonům upravujících hospodaření v lesíc
 h. Lesní ochranná služba Výzkumného ústavu lesního hospodářství 
 a myslivosti aktivním monitoringem kalamitní situaci v lesích\, poraden
 skou službou a osvětou o nových trendech v oblasti ochrany lesa. Ústav
  pro hospodářskou úpravu lesů Brandýs nad Labem vyhotovil pro obnovu 
 lesů po kalamitách obnovu komplexní metodický materiálem. Odborní le
 sní hospodáři pak přenášejí všechny tyto nástroje k vlastníkům 
 lesů a v první linii s nimi řeší všechny problémy\, které kalamitn
 í situace přinesla. Seminář má přinést informace o trendech vývoje
  a zároveň má být aplikací legislativy\, poznatků vědy a výzkumu d
 o praxe.
LOCATION:Žižkov 345\, 364 52 Žlutice
DTSTART:20221101T080000Z
DTEND:20221101T143000Z
DTSTAMP:20260423T185525Z
ORGANIZER;CN=ČESLES:MAILTO:tajemnik@cesles.cz
GEO:50.096443;13.160038
X-APPLE-STRUCTURED-LOCATION;VALUE=URI;X-ADDRESS=Žižkov 345\, 364 52 Žlut
 ice;X-APPLE-RADIUS=72;X-TITLE=SLŠ Žlutice:50.096443;13.160038
END:VEVENT
END:VCALENDAR