BEGIN:VCALENDAR
VERSION:2.0
PRODID:Events Booking
BEGIN:VEVENT
UID:69e4f509a14fb
SUMMARY:Cyklus kalamit od kůrovce  až k obnově lesa
DESCRIPTION:Lesní hospodářství v minulosti několikrát čelilo význam
 ným kalamitám\, avšak v posledních letech došlo v České republice k
  dramatickému odumírání smrkových porostů. V reakci na tyto změny p
 robíhá zásadní proměna způsobu lesního hospodaření\, zaměřená 
 na adaptaci na klimatické výkyvy. Naše lesy musely vyvinout strategie p
 ro překonání dlouhých suchých období a ničivých vichřic\, součas
 ně se však potýkají s rozšířením patogenů a kůrovců. Opakujíc
 í se cyklus kalamit na našem území sleduje jedenáctiletý solární c
 yklus a tuto periodicitu využívá i pro pravidelnou obnovu lesů po kala
 mitách. Tato obnova však přináší významné změny v druhové skladb
 ě lesů\, kdy se upřednostňují listnaté stromy a druhy\, které lépe
  snáší klimatické výkyvy. Tento posun v druhové skladbě byl iniciov
 án změnami ve sběru semenného materiálu\, který je nyní zaměřen n
 a jiné druhy dřevin než smrku ztepilého. Během semináře se zaměř
 íme na popis kalamitních událostí\, které zahrnují šíření kůrov
 ců i obnovu lesů po kalamitách. Lesnický sektor se musel přizpůsobit
  současné situaci\, která je historicky vnímána jako neobvyklá\, ale
  ve skutečnosti se obdobné události již v lesním hospodářství odeh
 ráli mnohokrát. Jedním z klíčových prvků kalamit je rozsáhlá kala
 mitní těžba\, způsobená nejčastěji šířením kůrovců. Tyto kala
 mitní plochy musí být znovu zalesněny\, což vede k nutnosti umělé o
 bnovy lesů a sběru semenného materiálu. Během semináře se zaměří
 me na významné lesnické kalamity a zvýrazníme klíčový význam sbě
 ru osiva a následném zalesňování pro budoucí obnovu lesních ekosyst
 émů.
  
LOCATION:nám. Republiky 2686
DTSTART:20231026T070000Z
DTEND:20231026T120000Z
DTSTAMP:20260419T173017Z
ORGANIZER;CN=ČESLES:MAILTO:tajemnik@cesles.cz
GEO:50.037231;15.777043
X-APPLE-STRUCTURED-LOCATION;VALUE=URI;X-ADDRESS=nám. Republiky 2686;X-APPL
 E-RADIUS=72;X-TITLE=Dům techniky Pardubice:50.037231;15.777043
END:VEVENT
END:VCALENDAR