BEGIN:VCALENDAR
VERSION:2.0
PRODID:Events Booking
BEGIN:VEVENT
UID:69eb3b74089c4
SUMMARY:Potenciál méně zastoupených introdukovaných dřevin v lesním 
 hospodářství České republiky
DESCRIPTION:Nejčastěji zastoupeným introdukovaným dřevinám již lesni
 cký výzkum i praxe věnovaly jistou pozornost a je vcelku jasný koncept
  jejich začlenění do systému LH České republiky. V souvislosti s kli
 matickou změnou se však nabízejí další dřeviny\, kterým je záhodn
 o věnovat pozornost a připravit jejich využití ve větší míře. K n
 im patří například akát\, borovice černá\, kaštan setý a další\
 , dosud považované za výjimečně využitelné. Cílem semináře je sh
 rnou jak starší poznatky o jejich pěstování\, tak i nejnovější vý
 sledky lesnického výzkumu v domácích podmínkách. V rámci diskuze pa
 k je možno formulovat i další požadavky\, které bude větší zavád
 ění dalších druhů introdukovaných dřevin klást na lesnictví\, ná
 vazná zpracovatelská odvětví i celou společnost. Součástí seminá
 ře bude i odpolední venkovní exkurze.
LOCATION:Truba 839\, 281 63 Kostelec nad Černými lesy\, Česko
DTSTART:20200825T070000Z
DTEND:20200825T130000Z
DTSTAMP:20260424T114420Z
ORGANIZER;CN=ČESLES:MAILTO:tajemnik@cesles.cz
GEO:50.00583;14.83596
X-APPLE-STRUCTURED-LOCATION;VALUE=URI;X-ADDRESS=Truba 839\, 281 63 Kostelec
  nad Černými lesy\, Česko;X-APPLE-RADIUS=72;X-TITLE=Šlechtitelská sta
 nice Truba:50.00583;14.83596
END:VEVENT
END:VCALENDAR