BEGIN:VCALENDAR
VERSION:2.0
PRODID:Events Booking
BEGIN:VEVENT
UID:69ed9741cccdb
SUMMARY:Pěstování douglasky z hlediska vlastníka lesa
DESCRIPTION:Douglaska tisolistá je nejproduktivnější dřevinou mírnéh
 o pásma\, z toho důvodu je zaváděna ve vhodných (i méně vhodných) 
 podmínkách v celé temperátní zóně. Rovněž v České republice má
  značný potenciál využití\, třebaže se dnes uvádí na zhruba 0\,25
  % lesní půdy. Přitom ze strany lesnického provozu je o její větší
  uplatnění značný zájem. Seminář má za cíl seznámit lesnický pr
 ovoz s potenciálem douglasky z hlediska produkčního i mimoprodukčního
  a na konkrétním případě doložit úspěšnou introdukci této dřevi
 ny v podmínkách konkrétního lesního majetku. Na dopolední předná
 škový blok naváže venkovní exkurze s ukázkou nejvyšších douglase
 k v ČR.
LOCATION:Vlastiboř 1\, 468 22 Vlastiboř\, Česko
DTSTART:20180621T070000Z
DTEND:20180621T140000Z
DTSTAMP:20260426T064033Z
ORGANIZER;CN=ČESLES:MAILTO:tajemnik@cesles.cz
GEO:50.662097;15.316182
X-APPLE-STRUCTURED-LOCATION;VALUE=URI;X-ADDRESS=Vlastiboř 1\, 468 22 Vlast
 iboř\, Česko;X-APPLE-RADIUS=72;X-TITLE=Sokolovna Vlastiboř:50.662097;15
 .316182
END:VEVENT
END:VCALENDAR