BEGIN:VCALENDAR
VERSION:2.0
PRODID:Events Booking
BEGIN:VEVENT
UID:69ea83f8c0dd1
SUMMARY:Ohrožení lesů na jižní Moravě?!
DESCRIPTION:Lesy na jižní Moravě se potýkají s mnohými problémy. Odb
 orný seminář si klade za cíl představit nejrozšířenější hmyzí 
 škůdce a dřevokazné houby\, které ohrožují lesní porosty na jihu M
 oravy. Na nejnovější poznatky pracovníků z vědecko-výzkumného sekt
 oru naváží lesníci zájmové oblasti svými zkušenostmi z praxe. Jak 
 hospodařit v lesích\, aby se škody na porostech minimalizovaly? Jaké j
 sou výhledy do budoucna? Co nám může v tématu ochrany lesa napovědě
 t lesnická typologie? Nejen na tyto otázky budeme v přednáškách a n
 ásledné diskuzi společně hledat řešení.
DTSTART:20210527T070000Z
DTEND:20210527T120000Z
DTSTAMP:20260423T224128Z
ORGANIZER;CN=ČESLES:MAILTO:tajemnik@cesles.cz
END:VEVENT
END:VCALENDAR