BEGIN:VCALENDAR
VERSION:2.0
PRODID:Events Booking
BEGIN:VEVENT
UID:69ebb717355fd
SUMMARY:Ochranná pásma liniových staveb v právních souvislostech
DESCRIPTION:Naše lesy protíná bezpočet různých dopravních koridorů\
 , energovodů\, vodovodů a dalších typů liniových staveb. Zvláště 
 v posledních letech se stupňuje tlak vlastníků a správců liniových
  staveb na vlastníky lesů v duchu zajištění bezpečnosti a veřejné
 ho zájmu. Skutečnost ukazuje\, že ani lesní zákon v tomto duchu nepo
 skytuje lesnické veřejnosti dostatečnou ochranu. Často jde o podnikate
 lské zájmy\, které se veřejným zájmem pouze zaštiťují. Jaké jsou
  práva povinnosti vlastníků a správců liniových staveb a naopak jak
 é jsou povinnosti vlastníků lesů  a osob hospodařících v lesích?
  Seminář si klade za cíl zvýšit míru informovanosti lesnické veřej
 nosti a přinést odpověď  na často se objevující otázky s problem
 atikou spojené.
LOCATION:Rybářská bašta 44
DTSTART:20200312T090000Z
DTEND:20200312T140000Z
DTSTAMP:20260424T203151Z
ORGANIZER;CN=ČESLES:MAILTO:tajemnik@cesles.cz
GEO:49.851555;15.222347
X-APPLE-STRUCTURED-LOCATION;VALUE=URI;X-ADDRESS=Rybářská bašta 44;X-APP
 LE-RADIUS=72;X-TITLE=Rybářská bašta:49.851555;15.222347
END:VEVENT
END:VCALENDAR