BEGIN:VCALENDAR
VERSION:2.0
PRODID:Events Booking
BEGIN:VEVENT
UID:69eb232f12772
SUMMARY:Obnova lesa na kalamitních holinách  –  zakládání lesů pro 
 XXII. století
DESCRIPTION:V současné době vznikají v souvislosti s kalamitním hynut
 ím hlavních hospodářských dřevin\, především smrku ztepilého [Pi
 cea abies (L.) Karst.]\, rozsáhlé holiny. Tato kalamita nemá obdobu v h
 istorii lesnictví českých zemí a představuje tak zásadní výzvu nej
 en pro lesní hospodáře\, ale především pro celou společnost. Cílem
  odborného semináře je formulovat hlavní výzvy\, před kterými stoj
 í nejen lesnický\, ale i dřevařský sektor\, možná dílčí řešen
 í\, a hlavně základní potřeby blízké i vzdálenější budoucnosti.
  Na dopolední přednáškový blok semináře naváže venkovní exkurze 
 s ukázkou zakládání lesů nové generace na experimentálních plochá
 ch ve správě Lesů České republiky\, s.p. na Lesní správě Telč.
LOCATION:Jihlavská 539\, Okříšky
DTSTART:20200924T070000Z
DTEND:20200924T130000Z
DTSTAMP:20260424T100047Z
ORGANIZER;CN=ČESLES:MAILTO:tajemnik@cesles.cz
GEO:49.244564;15.767531
X-APPLE-STRUCTURED-LOCATION;VALUE=URI;X-ADDRESS=Jihlavská 539\, Okříšky
 ;X-APPLE-RADIUS=72;X-TITLE=Restaurace Bílý dům\, Okříšky:49.244564;1
 5.767531
END:VEVENT
END:VCALENDAR