BEGIN:VCALENDAR
VERSION:2.0
PRODID:Events Booking
BEGIN:VEVENT
UID:69ed42427e42b
SUMMARY:Moderní přístupy ke škodám zvěří na lesních porostech
DESCRIPTION:Škody zvěří na lesních porostech představují stálý pro
 blém v České republice. Dlouhodobě neuspokojivý stav prokazují opako
 vaná šetření Národní inventarizace lesů i Inventarizace škod zvě
 ří. Naléhavost řešení umocňuje nezbytná potřeba změnit druhové 
 složení lesů v reakci na probíhající změny klimatu i nastupující 
 kolaps lesních porostů na rozsáhlých územích. Vlivem kalamit vznikaj
 í rozlehlé kalamitní plochy a na nic budou vznikat následně obrovské
  plochy mladých lesních porostů. Problematika škod zvěří na lesníc
 h porostech ještě více stoupne na významnosti a může se stát jední
 m z výrazných limitujících faktorů ovlivňující zdravotní stav les
 ních porostů. Jaké jsou zkušenosti v oblasti práva se škodami zvěř
 í na lesních porostech\, jaký je trend a vývoj právní praxe orgánů
 \, které ve věcech rozhodují? Jakým způsobem nám mohou pomoci nové 
 poznatky\, vědy a výzkumu a jak je možné je v praxi využít? Seminá
 ř si klade za cíl přiblížit některé aspekty mající vliv na stabil
 itu lesních porostů i aktivní roli lesního hospodáře\, který může
  svým jednáním stav lesních porostů a jejich budoucnost ovlivnit.
DTSTART:20181004T070000Z
DTEND:20181004T143000Z
DTSTAMP:20260426T003754Z
ORGANIZER;CN=ČESLES:MAILTO:tajemnik@cesles.cz
END:VEVENT
END:VCALENDAR