BEGIN:VCALENDAR
VERSION:2.0
PRODID:Events Booking
BEGIN:VEVENT
UID:69eb5602d7fb2
SUMMARY:Management vysokohorských smrčin v souvislosti s rozpadem lesa\, 
 snížením retenční schopnosti a ovlivněním turismu
DESCRIPTION:Dvoudenní odborná akce se bude zabývat problematikou zadrže
 ní srážkové vody z přílivových dešťů v porostech zasažených k
 ůrovcovou kalamitou v bezzásahových územích. Konkrétně se bude jedn
 at o vztah mezi nízkou retencí lesních porostů a jímací schopností 
 bezzásahových řečišť toků v dlouhých dolinách Vysokých Tater s n
 áslednými škodami na turistických chodnících\, lesních cestách a o
 statních stavbách lesní infrastruktury. Workshop bude také zaměřen n
 a problematiku předčasné obnovy lesních porostů v zóně národního 
 parku a včasnou výchovu lesních porostů za účelem zvýšení biodive
 rzity a statické stability.
LOCATION:Tatranská Lomnica 64
DTSTART:20200723T063000Z
DTEND:20200724T150000Z
DTSTAMP:20260424T133738Z
ORGANIZER;CN=ČESLES:MAILTO:tajemnik@cesles.cz
GEO:49.166496;20.284456
X-APPLE-STRUCTURED-LOCATION;VALUE=URI;X-ADDRESS=Tatranská Lomnica 64;X-APP
 LE-RADIUS=72;X-TITLE=Správa TANAPu\, Tatranská Lomnica:49.166496;20.2844
 56
END:VEVENT
END:VCALENDAR