BEGIN:VCALENDAR
VERSION:2.0
PRODID:Events Booking
BEGIN:VEVENT
UID:69e55e33f2a6f
SUMMARY:Management jelení zvěře včera\, dnes a zítra
DESCRIPTION:Jelen evropský je původním evropským druhem zvěře. Jeho p
 opulace v České republice prošla od roku 1995\, kdy se konala poslední
  celostátní konference zaměřená na tento druh\, velkými změnami. Od
  druhé poloviny 90. let dochází ke kontinuálnímu nárůstu početnost
 i jelení zvěře a k jejímu šíření do oblastí\, kde se dříve nevy
 skytovala. Zvyšování stavů s různou intenzitou jsme svědky ve všech
  státech sousedících s Českou republikou bez ohledu na systém myslive
 ckého hospodaření. Tento fakt vyvolává otázky\, jak dál s managemen
 tem jelení zvěře\, zvláště v souvislosti s obnovou lesů po historic
 ky největší kůrovcové kalamitě v Evropě. Pro rozhodování\, jak d
 ál\, máme k dispozici výsledky výzkumů jelení zvěře\, realizovaný
 ch v uplynulých desetiletích s pomocí moderní techniky. Ta nám pomáh
 á odhalovat i některé dosud skryté aspekty související s biologií j
 elení zvěře. Moderní technika umožňuje také zavádění nových met
 od lovu zvěře\, které bývají častým tématem diskusí mezi myslivci
  coby jejími chovateli. Lze dnes ještě hovořit v souvislosti s jelení
  zvěří ve volných honitbách o chovu ve smyslu dodržování pravidel 
 vedoucích k cílům proklamovaným v uplynulých desetiletích? 
LOCATION:Masarykova 1000
DTSTART:20230615T070000Z
DTEND:20230615T220000Z
DTSTAMP:20260420T005859Z
ORGANIZER;CN=ČESLES:MAILTO:tajemnik@cesles.cz
GEO:50.660717;14.034288
X-APPLE-STRUCTURED-LOCATION;VALUE=URI;X-ADDRESS=Masarykova 1000;X-APPLE-RAD
 IUS=72;X-TITLE=Muzeum města Ústí nad Labem:50.660717;14.034288
END:VEVENT
END:VCALENDAR