BEGIN:VCALENDAR
VERSION:2.0
PRODID:Events Booking
BEGIN:VEVENT
UID:69eb1fc36d6f8
SUMMARY:Lesnická legislativa na rozcestí
DESCRIPTION:Seminář bude zaměřen na zhodnocení současného stavu lesn
 ické legislativy v České republice (resp. legislativních předpisů\, 
 které mají vliv na hospodaření v lesích) z různých úhlů pohledu. 
 Bude také provedeno porovnání české lesnické legislativy s právní 
 úpravou v okolních zemích\, zejména s ohledem na míru regulace\, podr
 obnost\, přehlednost apod. Nebudou chybět ani příspěvky zaměřené n
 a to\, jaké změny by v budoucnu měly (mohly) v této oblasti nastat\, a
  to z pohledu velkého soukromého vlastníka lesů i z pohledu správce s
 tátního lesního majetku.
LOCATION:Kamýcká 1176\, 165 00 Praha-Praha-Suchdol\, Česko
DTSTART:20200917T070000Z
DTEND:20200917T111500Z
DTSTAMP:20260424T094611Z
ORGANIZER;CN=ČESLES:MAILTO:tajemnik@cesles.cz
GEO:50.130543;14.369734
X-APPLE-STRUCTURED-LOCATION;VALUE=URI;X-ADDRESS=Kamýcká 1176\, 165 00 Pra
 ha-Praha-Suchdol\, Česko;X-APPLE-RADIUS=72;X-TITLE=FLD ČZU v Praze:50.13
 0543;14.369734
END:VEVENT
END:VCALENDAR