BEGIN:VCALENDAR
VERSION:2.0
PRODID:Events Booking
BEGIN:VEVENT
UID:69ec0da7788ea
SUMMARY:XXII. Sněm lesníků: Kůrovcová kalamita - nové možnosti progn
 ózy vývoje\, hodnocení stavu a výběru optimálního řešení
DESCRIPTION:
 Kůrovcová kalamita posledních let ukazuje\, že si dávno
  nevystačíme s postupy a monitorovacími prostředky jako před 20ti let
 y. Jednou z možností hodnocení stavu a vývoje kůrovcové kalamity je 
 využití metod dálkového průzkumu Země. Nejlepších výsledků dosá
 hneme jejich propojení s terestrickým šetřením v režimu Národní in
 ventarizací lesů. Vzhledem k aktuální kalamitní situaci je však pot
 řeba získat informace co nejdříve (optimálně 2-3 krát za rok) a pro
 to jsou výstupy publikovány i samostatně při vědomí jejich nižší 
 spolehlivosti než v NIL. Těmito výstupy jsou zejména mapy trendů zdra
 votního stavu lesů (ze satelitních dat Sentinel 2) a kůrovcová mapa (
 ze satelitních dat Planet). Je otázka\, zda tato metoda bude dostatečn
 ým informačním zdrojem. Na odborné akci vystoupí mimo jiné přední 
 zahraniční odborníci ze Slovenska\, Rakouska a Německa. 
LOCATION:Humpolec\, Kamarytova 157\, 
DTSTART:20191112T080000Z
DTEND:20191112T133000Z
DTSTAMP:20260425T024111Z
ORGANIZER;CN=ČESLES:MAILTO:tajemnik@cesles.cz
END:VEVENT
END:VCALENDAR