BEGIN:VCALENDAR
VERSION:2.0
PRODID:Events Booking
BEGIN:VEVENT
UID:69ecbbdc8c050
SUMMARY:Introdukované dřeviny – potenciál a rizika jejich pěstování
DESCRIPTION:Pěstování introdukovaných dřevin zůstane spíše méně v
 ýznamnou oblastí lesního hospodářství v České republice\, nicmén
 ě jeho význam může vzrůst ze dvou důvodů: (1) klimatické změny a 
 extrémy mohou významně limitovat druhy domácí\, (2) současné odumí
 rání smrku bude vyžadovat jeho náhradu jinými dřevinami\, introdukov
 ané druhy pak mohou představovat alespoň částečné řešení. Cílem
  odborné akce je shrnout nejnovější poznatky o možném přínosu a ri
 zicích většího uplatnění geograficky nepůvodních dřevin v podmín
 kách České republiky. Pozornost bude věnována také prevenci a regula
 ci zavlékání či vysazování invazních druhů a zamezení jejich ší
 ření včetně možností eliminace a otázkám legislativy. Seminář s
 e dále podrobněji zaměří na několik introdukovaných druhů\, kter
 ým byla prozatím věnována menší pozornost lesnického výzkumu. Z hl
 ediska klimatické změny produkčně zajímavou náhradou za domácí bor
 ovici v problémových podmínkách je uvažováno s borovicí pokroucenou
 . Dále se jedná o trnovník akát\, naši nejrozšířenější exotu\, 
 o dub červený\, o který roste v posledním období zájem či o jedli o
 brovskou\, patřící v českých podmínkách k nejproduktivnějším dř
 evinám. 
LOCATION:Truba 839\, 281 63 Kostelec nad Černými lesy\, Česko
DTSTART:20190425T070000Z
DTEND:20190425T133000Z
DTSTAMP:20260425T150428Z
ORGANIZER;CN=ČESLES:MAILTO:tajemnik@cesles.cz
GEO:50.00583;14.83596
X-APPLE-STRUCTURED-LOCATION;VALUE=URI;X-ADDRESS=Truba 839\, 281 63 Kostelec
  nad Černými lesy\, Česko;X-APPLE-RADIUS=72;X-TITLE=Šlechtitelská sta
 nice Truba:50.00583;14.83596
END:VEVENT
END:VCALENDAR