BEGIN:VCALENDAR
VERSION:2.0
PRODID:Events Booking
BEGIN:VEVENT
UID:69eb0ce860307
SUMMARY:Elektronické příjmy dříví v lese - možnosti a úskalí
DESCRIPTION:AKCE BUDE POŘÁDANA! Seminář bude modifikován a kapacita ú
 častníků omezena dle nařízení vlády zde dne 30.9. na 20 osob.
 Zaj
 išťování lesní hospodářské evidence je nedílnou součástí hospo
 daření v lesích. Mezi tyto povinnosti patří i příjem a evidence dř
 íví za jednotlivé porosty. Mimo standardní manuální postupy měřen
 í a příjmu dříví\, je možné využívat i metody elektronického m
 ěření a příjmu dříví s využitím harvestorů přímo v lesních p
 orostech nebo vyhodnocováním snímků z odvozních míst. Těmito postup
 y je možné výše uvedenou činnost urychlit\, ale stejně jako manuáln
 í měření\, přináší také svoje problémy\, které jsou často způ
 sobeny neznalostí s jejich užíváním. V rámci semináře bychom chtě
 li účastníky seznámit s možnostmi elektronického měření a příjm
 u dříví (především harvestory)\; upozornit na nejčastější chyby\
 , které jsou nejčastěji spojeny s příjmem dříví harvestory\, kter
 ými je ročně vyráběno cca 35 % objemu dříví\; demonstrovat možnos
 t kontrolní přejímky dříví elektronickou průměrkou\; vést diskusi
  s účastníky semináře nad problematikou elektronických přejímek v 
 lesním provozu\; demonstrovat exkursí ve školícím centru pro operáto
 ry ČLA Trutnov možnosti vzdělávání operátorů harvestorů.
LOCATION:K Bělidlu 478
DTSTART:20201008T070000Z
DTEND:20201008T133000Z
DTSTAMP:20260424T082544Z
ORGANIZER;CN=ČESLES:MAILTO:tajemnik@cesles.cz
GEO:50.595167;15.87875
X-APPLE-STRUCTURED-LOCATION;VALUE=URI;X-ADDRESS=K Bělidlu 478;X-APPLE-RADI
 US=72;X-TITLE=ČLA Trutnov - Školní polesí:50.595167;15.87875
END:VEVENT
END:VCALENDAR