BEGIN:VCALENDAR
VERSION:2.0
PRODID:Events Booking
BEGIN:VEVENT
UID:69ecea8cec84d
SUMMARY:Dopady kůrovcové kalamity na vlastníky lesů
DESCRIPTION:Současná kůrovcová kalamita je největší v historii ČR\,
  objem evidovaného kůrovcového dříví poprvé překonal objem nahodil
 é těžby způsobené abiotickými faktory a celkový objem nahodilé tě
 žby se prakticky blíží objemu plánované těžby. V minulém roce se 
 situace dramaticky zhoršila a ani v následujících letech nelze očeká
 vat zlepšení\, naopak prudký nárůst objemu napadeného dříví. Cíl
 em odborného semináře je komplexně informovat o možnostech komplexní
 ho řešení kůrovcové kalamity v Českých lesích. Nejde pouze o vlast
 ní řešení při asanaci kůrovcového dříví\, ale i o řešení nás
 ledných dopadů. Bude třeba řešit zalesňování rozsáhlých holin\, 
 kde jsou extrémní podmínky včetně zajištění vhodného sadebního m
 ateriálu\, a následnou výchovu. Bude nutné řešit problémy se zvěř
 í\, která se bude shromažďovat v přehoustlých mlazinách. Nemalým p
 roblémem se stává také ekonomika\, a to zejména u drobných vlastník
 ů v následujících letech. To vše jsou problémy\, na které je třeba
  se připravit a seznámit s nimi odbornou veřejnost.
LOCATION:Kostelní 1300/44\, 170 00 Praha-Praha 7\, Česká republika
DTSTART:20190205T080000Z
DTEND:20190205T140000Z
DTSTAMP:20260425T182340Z
ORGANIZER;CN=ČESLES:MAILTO:tajemnik@cesles.cz
GEO:50.09697;14.423316
X-APPLE-STRUCTURED-LOCATION;VALUE=URI;X-ADDRESS=Kostelní 1300/44\, 170 00 
 Praha-Praha 7\, Česká republika;X-APPLE-RADIUS=72;X-TITLE=Národní zem
 ědělské muzeum:50.09697;14.423316
END:VEVENT
END:VCALENDAR